BEGIN:VCALENDAR
VERSION:2.0
PRODID:-//澳大利亚江西同乡会 - ECPv4.8.1//NONSGML v1.0//EN
CALSCALE:GREGORIAN
METHOD:PUBLISH
X-WR-CALNAME:澳大利亚江西同乡会
X-ORIGINAL-URL:https://www.jiangxi.net.au
X-WR-CALDESC:Events for 澳大利亚江西同乡会
BEGIN:VEVENT
DTSTART;TZID=UTC+10:20160925T113000
DTEND;TZID=UTC+10:20160925T150000
DTSTAMP:20190301T030111
CREATED:20160909T115546Z
LAST-MODIFIED:20160912T125852Z
UID:288-1474803000-1474815600@www.jiangxi.net.au
SUMMARY:2016澳大利亚江西同乡会中秋国庆盛会盛大召集
DESCRIPTION: \n澳国墨村，春意日浓； \n佳节将近，思乡日炽。 \n中秋国庆之际， \n是海外游子最情牵故里的时刻， \n也是侨胞赤子相约而聚、互诉乡情的季节。 \n这个时节，让我们相逢 \n——–2016澳大利亚江西同乡会中秋国庆盛会。 \n9月25日， \nLysterfield Lake Pake， \n \n故友新交，少长咸集； \n美食美景，乡情乡音； \n游艺互动，竞技对垒； \n更有总额达$1000三轮次抽奖，奖金最高$200！ \n一人一票，现场抽出，即刻发送，幸运的那位，也许就是你！ \n  \n \n报名方式： \n在底下报名栏内填写你的个人信息，点击发送。 \n或致电或留言：何茹：0450071999；苏启明：0411569368；曾俊玫：0450110409 \n报名费及缴费方式： \n\n微信缴费给何茹微信号：hutu1263720190； 费用：￥50人民币/人 （现场报名￥75/；10岁以下孩童免费）\n澳币转账（如微信无账号链接）：费用：$10（现场报名$15，10岁以下孩童免费）\nAccount name： Jiangxi association，\nBSB：063105，\nAccount number：10357425\n\n无论澳币转账还是微信转账或发红包，务请转账时注明您的全名（和注册表吻合），以确定抽奖资格。 \n \n聚会时间：9月25日星期日11:30am-3:00pm \n聚会地点：Lysterfield Lake Park 湖边 (GPS 输入：25 Horswood Rd\,  Lysterfield VIC 3156) \n \n  \n进    场：11:30am-12:00pm \n会员们进场，签到并领取投放奖券，在草地、湖边、林中自由交谈、享受午间美景美食饮品 （请各家携带一份拿手的家乡美味与同乡们分享）； \n联    欢：12:00pm-01:30pm \n会员们聚集在近处指定的草坡绿地，进行1.5小时的游艺互动，并进行连环抽奖； \n合    影：01:30pm-01:45pm \n         会员们在指定的地点进行大合影，并可小组合影； \n自由活动：01:45pm-03:00pm \n会员们自由活动：自由交谈、围湖walking、林间漫步、与野袋鼠邂逅。 \n \n  \n\n\n\n\n全名(required)\n\n	\n\n\n联系电话(required)\n\n	\n\n\nEmail(required)\n\n	\n\n\n10 岁以上人数（每人$10）(required)\n	\n		1\n		2\n		3\n		4\n		5\n		6\n		7\n		8\n		9\n		10\n	\n	\n\n\n10岁以下人数（免费）\n	\n		1\n		2\n		3\n		4\n		5\n		6\n		7\n		8\n		9\n		10\n	\n	\n\n\n留言\n\n	\n	\n		\n		\n		\n		\n	 \n\n\n\n\n	Related\n
URL:https://www.jiangxi.net.au/event/2016-mid-autumn/
LOCATION:Lysterfield Lake Park\, 25 Horswood Rd\, Lysterfield\, VIC\, 3156\, Australia
END:VEVENT
END:VCALENDAR