BEGIN:VCALENDAR
VERSION:2.0
PRODID:-//澳大利亚江西同乡会 - ECPv4.8.1//NONSGML v1.0//EN
CALSCALE:GREGORIAN
METHOD:PUBLISH
X-WR-CALNAME:澳大利亚江西同乡会
X-ORIGINAL-URL:https://www.jiangxi.net.au
X-WR-CALDESC:Events for 澳大利亚江西同乡会
BEGIN:VEVENT
DTSTART;TZID=UTC+10:20170916T180000
DTEND;TZID=UTC+10:20170916T220000
DTSTAMP:20190301T030010
CREATED:20170714T105814Z
LAST-MODIFIED:20170722T035845Z
UID:556-1505584800-1505599200@www.jiangxi.net.au
SUMMARY:2017中秋国庆庆典
DESCRIPTION:开始接受报名\n中秋国庆之际，是海外游子最情牵故里的时刻 \n也是侨胞赤子相约而聚、互诉乡情的季节 \n这个季节，让我们相逢，让我们庆贺 \n精彩的舞蹈歌唱节目，美味的佳肴晚餐 \n中秋佳节以及68周年国庆盛会 – 期待与您相聚 \n \n \n  \n \n  \n座位需要预定，还等什么？ \n每位收费：成人$38/十二岁以下$20\n银行名：CBA Bank\n账号：06 3105 10357425\n账号名：Australian JiangXi Association Inc. \n请尽快填写以下表格报名（包括转账序号/Reference No） \n\n\n\n\nName(required)\n\n	\n\n\n预定人数（成人）\n	\n		1\n		2\n		3\n		4\n		5\n		6\n	\n	\n\n\n预定人数 (12岁以下）\n	\n		1\n		2\n		3\n		4\n	\n	\n\n\nPhone(required)\n\n	\n\n\nEmail(required)\n\n	\n\n\n转账序号/Reference No\n\n	\n\n\n留言\n\n	\n	\n		\n		\n		\n		\n	 \n\n\n(此表格没有设置邮件确认功能，但会在成功递交表格后自动显示：“Message Sent （go back）”，这就可以了，不必重复递交表格）。我们将联系您确认收款并关于更多的晚宴细节） \n欢迎参加组织工作或商议赞助事宜，敬请联系我们 \n以往活动回顾： \n\n郊游踏青\n2016 庆中秋国庆\n\n\n\n	Related\n
URL:https://www.jiangxi.net.au/event/2017-mid-autumn/
LOCATION:Whitehorse Club\, 298-336 Burwood Hwy\, Melbourne\, VIC\, 3130\, Australia
ATTACH;FMTTYPE=image/jpeg:https://www.jiangxi.net.au/wp-content/uploads/2017/07/IMG_5937-e1500120503534.jpg
END:VEVENT
END:VCALENDAR